BEGIN:VCALENDAR
VERSION:2.0
PRODID:-//SPE Recycling Techinca Interest Group - ECPv6.6.2//NONSGML v1.0//EN
CALSCALE:GREGORIAN
METHOD:PUBLISH
X-ORIGINAL-URL:https://recycling.4spe.org
X-WR-CALDESC:Events for SPE Recycling Techinca Interest Group
REFRESH-INTERVAL;VALUE=DURATION:PT1H
X-Robots-Tag:noindex
X-PUBLISHED-TTL:PT1H
BEGIN:VTIMEZONE
TZID:America/New_York
BEGIN:DAYLIGHT
TZOFFSETFROM:-0500
TZOFFSETTO:-0400
TZNAME:EDT
DTSTART:20200308T070000
END:DAYLIGHT
BEGIN:STANDARD
TZOFFSETFROM:-0400
TZOFFSETTO:-0500
TZNAME:EST
DTSTART:20201101T060000
END:STANDARD
END:VTIMEZONE
BEGIN:VEVENT
DTSTART;TZID=America/New_York:20201118T110000
DTEND;TZID=America/New_York:20201118T120000
DTSTAMP:20260420T003536
CREATED:20201006T194550Z
LAST-MODIFIED:20210305T215405Z
UID:115-1605697200-1605700800@recycling.4spe.org
SUMMARY:WEBINAR: Life Cycle Assessments: Why and How?
DESCRIPTION:  \nChris Koffler is the Technical Director for the Americas of Sphera’s Sustainability Consulting practice. In this role he is responsible for the quality of all sustainability consulting projects\, methodological development\, project oversight\, and is the primary lead in key selected areas\, such as the automotive sector. \nChris received his Doctorate in Engineering from the Darmstadt University of Technology in 2007. His PhD work was on Automotive Product Life Cycle Assessment. He has published numerous papers in the field of Life Cycle Assessment and frequently provides his expertise in peer and critical reviews. \nChris is the current Chair of the Joint SETAC/ACLCA LCA Interest Group Steering Committee and a member of the American Center for Life Cycle Assessment (ACLCA) Board of Directors. He has represented the U.S. in the development of various LCA-related ISO standards in the past and has taught Product Life Cycle Assessment at Yale’s School of the Environment and the Harvard Extension School.
URL:https://recycling.4spe.org/event/webinar-life-cycle-assessments-why-and-how/
END:VEVENT
END:VCALENDAR