BEGIN:VCALENDAR
VERSION:2.0
PRODID:-//SPE Recycling Techinca Interest Group - ECPv6.6.2//NONSGML v1.0//EN
CALSCALE:GREGORIAN
METHOD:PUBLISH
X-WR-CALNAME:SPE Recycling Techinca Interest Group
X-ORIGINAL-URL:https://recycling.4spe.org
X-WR-CALDESC:Events for SPE Recycling Techinca Interest Group
REFRESH-INTERVAL;VALUE=DURATION:PT1H
X-Robots-Tag:noindex
X-PUBLISHED-TTL:PT1H
BEGIN:VTIMEZONE
TZID:America/New_York
BEGIN:DAYLIGHT
TZOFFSETFROM:-0500
TZOFFSETTO:-0400
TZNAME:EDT
DTSTART:20200308T070000
END:DAYLIGHT
BEGIN:STANDARD
TZOFFSETFROM:-0400
TZOFFSETTO:-0500
TZNAME:EST
DTSTART:20201101T060000
END:STANDARD
END:VTIMEZONE
BEGIN:VEVENT
DTSTART;TZID=America/New_York:20201013T110000
DTEND;TZID=America/New_York:20201013T120000
DTSTAMP:20260420T081923
CREATED:20201006T194352Z
LAST-MODIFIED:20201006T194352Z
UID:112-1602586800-1602590400@recycling.4spe.org
SUMMARY:WEBINAR: This is Not the Wild West: Sustainability Definitions\, Standards\, and Regulations
DESCRIPTION:With continued interest in and development of sustainable plastics\, it is clear that not everyone is working with the same lexicon. Terms such as ‘degradable’\, ‘bio-degradable’\, ‘recyclable’\, and ‘compostable’ are subject to misunderstandings\, misinterpretations\, or outright fraudulent claims. This webinar will address how ASTM standards are being used to create a common understanding based on science and testing. We will also address the commonalities and differences among standards\, certifications\, and regulations. This webinar is part of SPE’s ongoing “Sustainability & Plastics” series. \nAbout the Speaker \nKelvin Okamoto is President of his own consulting firm\, Green Bottom Line\, that focuses on sustainable materials and packaging. Kelvin has over 30 years of experience in the plastics and packaging industries working on materials\, equipment\, process and packaging development and commercialization. Kelvin is also founder and CEO of Gen3Bio\, a startup company focused on producing biobased chemicals and subsequent bioplastics from microalgae. Previously\, Kelvin was Chief Technical Officer for bioplastics manufacturer Cereplast where his primary responsibilities included material formulation\, technology strategy and evaluation\, intellectual property coordination\, quality control and regulatory certifications. Prior to that he managed materials and process development for Solo Cup (since acquired by Dart Container). He also worked for TaylorMade Golf\, Trexel\, Packaging Corporation of America (now Pactiv)\, Himont (now LyondellBasell) and GE Plastics (now SABIC). \nKelvin holds a Ph.D. Chemistry from Cornell University and a B.S. Chemistry from Stanford University. He is a member of the American Chemical Society\, is an Honored Service Member of the Society of Plastics Engineers’ (SPE) and is the chair of the ASTM D20.96 subcommittee that deals with biodegradation and biobased standards for plastics. Kelvin is also on the USDA Biopreferred Program Technical Advisory Council and is a reviewer for DOE SBIR applications. Kelvin is a registered patent agent\, holding 17 patents and nine additional patent applications. He is also a published author\, having written a book on microcellular foam processing.
URL:https://recycling.4spe.org/event/webinar-this-is-not-the-wild-west-sustainability-definitions-standards-and-regulations/
END:VEVENT
END:VCALENDAR